BEGIN:VCALENDAR
VERSION:2.0
PRODID:-//ChamberMaster//Event Calendar 2.0//EN
METHOD:PUBLISH
X-PUBLISHED-TTL:P3D
REFRESH-INTERVAL:P3D
CALSCALE:GREGORIAN
BEGIN:VEVENT
DTSTART:20260609T120000Z
DTEND:20260609T130000Z
X-MICROSOFT-CDO-ALLDAYEVENT:FALSE
SUMMARY:Gwinnett County Advisory Roundtable with Robert Michener\, Executive Director\, Gateway85 CID
DESCRIPTION:Join the Council for Quality Growth's Gwinnett County Advisory Roundtable on June 9 at 8:00 AM.
X-ALT-DESC;FMTTYPE=text/html:<p><span style="background:white\;"><span style="color:#272833\;">Join the Council for Quality Growth&#39\;s Gwinnett County Advisory Roundtable on June 9 at 8:00 AM.</span></span></p>\n
LOCATION:Andersen\, Tate & Carr One Sugarloaf Centre 1960 Satellite Blvd. Duluth\, GA 30097
UID:e.9174.5962
SEQUENCE:3
DTSTAMP:20260426T024739Z
URL:http://councilforqualitygrowth.memberzone.com/events/details/gwinnett-county-advisory-roundtable-with-robert-michener-executive-director-gateway85-cid-5962
END:VEVENT

END:VCALENDAR
